BEGIN:VCALENDAR
PRODID:-//climbIT//Tourenangebot//DE
VERSION:2.0
METHOD:PUBLISH
BEGIN:VEVENT
UID:tour-7b6f8f65-317e-47f9-a373-96df9e598099@touren.sac-randen.ch
DTSTAMP:20260422T195854
SEQUENCE:0
CLASS:PUBLIC
TRANSP:OPAQUE
DTSTART;VALUE=DATE:20250628
DTEND;VALUE=DATE:20250630
SUMMARY:Sektion Randen: Hochtour Winterstock Südgipfel
DESCRIPTION:Nach deiner Anmeldung und bei jeder Statusänderung wird ein Kalendereintrag per E-Mail verschickt.\n\nAktuelle Informationen\nTourenlink: https://touren.sac-randen.ch/tours/view/7b6f8f65-317e-47f9-a373-96df9e598099\n\n\nDein Tourenangebot Team
END:VEVENT
END:VCALENDAR