BEGIN:VCALENDAR
PRODID:-//climbIT//Tourenangebot//DE
VERSION:2.0
METHOD:PUBLISH
BEGIN:VEVENT
UID:tour-a2a0e24e-9f77-4e00-93f3-348471b08c2f@touren.sac-randen.ch
DTSTAMP:20260419T194344
SEQUENCE:0
CLASS:PUBLIC
TRANSP:OPAQUE
DTSTART;VALUE=DATE:20240204
DTEND;VALUE=DATE:20240205
SUMMARY:Sektion Randen: Einfache Skitour im Liederengebiet
DESCRIPTION:Nach deiner Anmeldung und bei jeder Statusänderung wird ein Kalendereintrag per E-Mail verschickt.\n\nAktuelle Informationen\nTourenlink: https://touren.sac-randen.ch/tours/view/a2a0e24e-9f77-4e00-93f3-348471b08c2f\n\n\nDein Tourenangebot Team
END:VEVENT
END:VCALENDAR