BEGIN:VCALENDAR
PRODID:-//climbIT//Tourenangebot//DE
VERSION:2.0
METHOD:PUBLISH
BEGIN:VEVENT
UID:tour-cc9d02d5-371d-477d-9f5b-32974a524f17@touren.sac-randen.ch
DTSTAMP:20260422T173841
SEQUENCE:0
CLASS:PUBLIC
TRANSP:OPAQUE
DTSTART;VALUE=DATE:20240701
DTEND;VALUE=DATE:20240705
SUMMARY:Sektion Randen: Hochtour Corn da Camp 3232m Südostgrat oder Cima dal Cantun 3352m Nordwand
DESCRIPTION:Nach deiner Anmeldung und bei jeder Statusänderung wird ein Kalendereintrag per E-Mail verschickt.\n\nAktuelle Informationen\nTourenlink: https://touren.sac-randen.ch/tours/view/cc9d02d5-371d-477d-9f5b-32974a524f17\n\n\nDein Tourenangebot Team
END:VEVENT
END:VCALENDAR