BEGIN:VCALENDAR
PRODID:-//climbIT//Tourenangebot//DE
VERSION:2.0
METHOD:PUBLISH
BEGIN:VEVENT
UID:tour-d1d6e035-32a0-42b2-9c9e-b0cfbab2950e@touren.sac-randen.ch
DTSTAMP:20260421T000638
SEQUENCE:0
CLASS:PUBLIC
TRANSP:OPAQUE
DTSTART;VALUE=DATE:20240906
DTEND;VALUE=DATE:20240907
SUMMARY:Sektion Randen: TL Höck auf Hasenbuck
DESCRIPTION:Nach deiner Anmeldung und bei jeder Statusänderung wird ein Kalendereintrag per E-Mail verschickt.\n\nAktuelle Informationen\nTourenlink: https://touren.sac-randen.ch/tours/view/d1d6e035-32a0-42b2-9c9e-b0cfbab2950e\n\n\nDein Tourenangebot Team
END:VEVENT
END:VCALENDAR